BEGIN:VCALENDAR
VERSION:2.0
PRODID:-//Diocesi di Concordia-Pordenone//NOAH Events //EN
METHOD:PUBLISH
CALSCALE:GREGORIAN
X-WR-CALNAME:Appuntamenti Pastorali - Diocesi di Concordia-Pordenone
BEGIN:VEVENT
SUMMARY:Assemblea Pastorale Diocesana in oratorio a San Pietro a Cordenons
UID:https://diocesi.concordia-pordenone.it/?post_type=wd-appuntamenti&p=14973
DTSTAMP;TZID=Europe/Rome:20260416T234338
DTSTART;TZID=Europe/Rome:20260423T203000
DTEND;TZID=Europe/Rome:20260423T220000
CATEGORIES:Appuntamenti Pastorali
LOCATION:
DESCRIPTION:Assemblea Pastorale Diocesana in Duomo Concattedrale San Marco a Pordenone ore 20.30
END:VEVENT
BEGIN:VEVENT
SUMMARY:GIORNATA MONDIALE DI PREGHIERA PER LE VOCAZIONI
UID:https://diocesi.concordia-pordenone.it/?post_type=wd-appuntamenti&p=14177
DTSTAMP;TZID=Europe/Rome:20250905T093828
DTSTART;VALUE=DATE:20260426
DTEND;VALUE=DATE:20260426
CATEGORIES:Appuntamenti Pastorali
LOCATION:
DESCRIPTION:GIORNATA MONDIALE DI PREGHIERA PER LE VOCAZIONI
END:VEVENT
BEGIN:VEVENT
SUMMARY:Santa Messa di misericordia consolazione liberazione e guarigione: Santuario della Madonna delle Grazie a Pordenone
UID:https://diocesi.concordia-pordenone.it/?post_type=wd-appuntamenti&p=14905
DTSTAMP;TZID=Europe/Rome:20260213T113954
DTSTART;TZID=Europe/Rome:20260513T200000
DTEND;TZID=Europe/Rome:20260513T213000
CATEGORIES:Appuntamenti Pastorali
LOCATION:
DESCRIPTION:Santa Messa di misericordia consolazione liberazione e guarigione presso il Santuario della Madonna delle Grazie a Pordenone
END:VEVENT
BEGIN:VEVENT
SUMMARY:GIORNATA MONDIALE DELLE COMUNICAZIONI SOCIALI
UID:https://diocesi.concordia-pordenone.it/?post_type=wd-appuntamenti&p=14192
DTSTAMP;TZID=Europe/Rome:20250905T101449
DTSTART;VALUE=DATE:20260517
DTEND;VALUE=DATE:20260517
CATEGORIES:Appuntamenti Pastorali
LOCATION:
DESCRIPTION:GIORNATA MONDIALE DELLE COMUNICAZIONI SOCIALI
END:VEVENT
BEGIN:VEVENT
SUMMARY:Santa Messa di misericordia consolazione liberazione e guarigione: Santuario della Madonna delle Grazie a Pordenone
UID:https://diocesi.concordia-pordenone.it/?post_type=wd-appuntamenti&p=14907
DTSTAMP;TZID=Europe/Rome:20260213T113941
DTSTART;TZID=Europe/Rome:20260610T200000
DTEND;TZID=Europe/Rome:20260610T213000
CATEGORIES:Appuntamenti Pastorali
LOCATION:
DESCRIPTION:Santa Messa di misericordia consolazione liberazione e guarigione presso Santuario della Madonna delle Grazie a Pordenone
END:VEVENT
BEGIN:VEVENT
SUMMARY:Santa Messa di misericordia consolazione liberazione e guarigione: Santuario della Madonna delle Grazie a Pordenone
UID:https://diocesi.concordia-pordenone.it/?post_type=wd-appuntamenti&p=14906
DTSTAMP;TZID=Europe/Rome:20260213T113929
DTSTART;TZID=Europe/Rome:20260708T200000
DTEND;TZID=Europe/Rome:20260708T213000
CATEGORIES:Appuntamenti Pastorali
LOCATION:
DESCRIPTION:Santa Messa di misericordia consolazione liberazione e guarigione presso Santuario della Madonna delle Grazie a Pordenone
END:VEVENT
BEGIN:VEVENT
SUMMARY:Santa Messa di misericordia consolazione liberazione e guarigione: Santuario della Madonna delle Grazie a Pordenone
UID:https://diocesi.concordia-pordenone.it/?post_type=wd-appuntamenti&p=14908
DTSTAMP;TZID=Europe/Rome:20260213T113443
DTSTART;TZID=Europe/Rome:20260909T200000
DTEND;TZID=Europe/Rome:20260909T213000
CATEGORIES:Appuntamenti Pastorali
LOCATION:
DESCRIPTION:Santa Messa di misericordia consolazione liberazione e guarigione presso Santuario della Madonna delle Grazie a Pordenone
END:VEVENT
BEGIN:VEVENT
SUMMARY:Santa Messa di misericordia consolazione liberazione e guarigione: Santuario della Madonna delle Grazie a Pordenone
UID:https://diocesi.concordia-pordenone.it/?post_type=wd-appuntamenti&p=14909
DTSTAMP;TZID=Europe/Rome:20260213T113916
DTSTART;TZID=Europe/Rome:20261004T200000
DTEND;TZID=Europe/Rome:20261004T213000
CATEGORIES:Appuntamenti Pastorali
LOCATION:
DESCRIPTION:Santa Messa di misericordia consolazione liberazione e guarigione presso Santuario della Madonna delle Grazie a Pordenone
END:VEVENT
BEGIN:VEVENT
SUMMARY:Santa Messa di misericordia consolazione liberazione e guarigione: Santuario della Madonna delle Grazie a Pordenone
UID:https://diocesi.concordia-pordenone.it/?post_type=wd-appuntamenti&p=14910
DTSTAMP;TZID=Europe/Rome:20260213T113423
DTSTART;TZID=Europe/Rome:20261111T200000
DTEND;TZID=Europe/Rome:20261111T213000
CATEGORIES:Appuntamenti Pastorali
LOCATION:
DESCRIPTION:Santa Messa di misericordia consolazione liberazione e guarigione presso Santuario della Madonna delle Grazie a Pordenone
END:VEVENT
BEGIN:VEVENT
SUMMARY:Santa Messa di misericordia consolazione liberazione e guarigione: Santuario della Madonna delle Grazie a Pordenone
UID:https://diocesi.concordia-pordenone.it/?post_type=wd-appuntamenti&p=14911
DTSTAMP;TZID=Europe/Rome:20260213T113408
DTSTART;TZID=Europe/Rome:20261209T200000
DTEND;TZID=Europe/Rome:20261209T213000
CATEGORIES:Appuntamenti Pastorali
LOCATION:
DESCRIPTION:Santa Messa di misericordia consolazione liberazione e guarigione presso Santuario della Madonna delle Grazie a Pordenone
END:VEVENT
END:VCALENDAR
