BEGIN:VCALENDAR
VERSION:2.0
PRODID:-//Diocesi di Concordia-Pordenone//NOAH Events //EN
METHOD:PUBLISH
CALSCALE:GREGORIAN
X-WR-CALNAME:Azione Cattolica Diocesana - Diocesi di Concordia-Pordenone
BEGIN:VEVENT
SUMMARY:Incontro vice e animatori adulti
UID:https://diocesi.concordia-pordenone.it/?post_type=wd-appuntamenti&p=14175
DTSTAMP;TZID=Europe/Rome:20250905T093642
DTSTART;TZID=Europe/Rome:20260421T203000
DTEND;TZID=Europe/Rome:20260421T220000
CATEGORIES:Azione Cattolica Diocesana
LOCATION:
DESCRIPTION:AC: Incontro vice e animatori adulti ore 20.30
END:VEVENT
BEGIN:VEVENT
SUMMARY:Veglia per il mese degli incontri
UID:https://diocesi.concordia-pordenone.it/?post_type=wd-appuntamenti&p=14178
DTSTAMP;TZID=Europe/Rome:20250905T093907
DTSTART;TZID=Europe/Rome:20260430T203000
DTEND;TZID=Europe/Rome:20260430T220000
CATEGORIES:Azione Cattolica Diocesana
LOCATION:
DESCRIPTION:AC: Veglia per il mese degli incontri ore 20.30
END:VEVENT
BEGIN:VEVENT
SUMMARY:Incontro per adultissimi
UID:https://diocesi.concordia-pordenone.it/?post_type=wd-appuntamenti&p=14185
DTSTAMP;TZID=Europe/Rome:20250905T100733
DTSTART;TZID=Europe/Rome:20260515T143000
DTEND;TZID=Europe/Rome:20260515T163000
CATEGORIES:Azione Cattolica Diocesana
LOCATION:
DESCRIPTION:AC: Incontro per adultissimi ore 14.30
END:VEVENT
BEGIN:VEVENT
SUMMARY:Festa diocesana settore giovani
UID:https://diocesi.concordia-pordenone.it/?post_type=wd-appuntamenti&p=14189
DTSTAMP;TZID=Europe/Rome:20250905T101102
DTSTART;TZID=Europe/Rome:20260516T150000
DTEND;TZID=Europe/Rome:20260516T220000
CATEGORIES:Azione Cattolica Diocesana
LOCATION:
DESCRIPTION:AC: Festa diocesana settore giovani ore 15.00-22.00
END:VEVENT
BEGIN:VEVENT
SUMMARY:Presentazione estate
UID:https://diocesi.concordia-pordenone.it/?post_type=wd-appuntamenti&p=14195
DTSTAMP;TZID=Europe/Rome:20250905T101830
DTSTART;TZID=Europe/Rome:20260522T203000
DTEND;TZID=Europe/Rome:20260522T220000
CATEGORIES:Azione Cattolica Diocesana
LOCATION:
DESCRIPTION:AC: Presentazione estate
END:VEVENT
BEGIN:VEVENT
SUMMARY:Festa diocesana ACR e Adulti
UID:https://diocesi.concordia-pordenone.it/?post_type=wd-appuntamenti&p=14198
DTSTAMP;TZID=Europe/Rome:20250905T104223
DTSTART;TZID=Europe/Rome:20260531T090000
DTEND;TZID=Europe/Rome:20260531T160000
CATEGORIES:Azione Cattolica Diocesana
LOCATION:
DESCRIPTION:AC: Festa diocesana ACR e Adulti
END:VEVENT
BEGIN:VEVENT
SUMMARY:Incontro verifica settore giovani
UID:https://diocesi.concordia-pordenone.it/?post_type=wd-appuntamenti&p=14200
DTSTAMP;TZID=Europe/Rome:20250905T104612
DTSTART;TZID=Europe/Rome:20260613T203000
DTEND;TZID=Europe/Rome:20260613T220000
CATEGORIES:Azione Cattolica Diocesana
LOCATION:
DESCRIPTION:AC: Incontro verifica settore giovani
END:VEVENT
BEGIN:VEVENT
SUMMARY:Incontro responsabili ACR
UID:https://diocesi.concordia-pordenone.it/?post_type=wd-appuntamenti&p=14202
DTSTAMP;TZID=Europe/Rome:20250905T104735
DTSTART;TZID=Europe/Rome:20260619T203000
DTEND;TZID=Europe/Rome:20260619T220000
CATEGORIES:Azione Cattolica Diocesana
LOCATION:
DESCRIPTION:AC: Incontro responsabili ACR
END:VEVENT
BEGIN:VEVENT
SUMMARY:Consiglio diocesano
UID:https://diocesi.concordia-pordenone.it/?post_type=wd-appuntamenti&p=14204
DTSTAMP;TZID=Europe/Rome:20250905T104840
DTSTART;TZID=Europe/Rome:20260627T203000
DTEND;TZID=Europe/Rome:20260627T220000
CATEGORIES:Azione Cattolica Diocesana
LOCATION:
DESCRIPTION:AC: Consiglio diocesano
END:VEVENT
BEGIN:VEVENT
SUMMARY:Campi diocesani ACR e Giovani (13/07-02/08)
UID:https://diocesi.concordia-pordenone.it/?post_type=wd-appuntamenti&p=14206
DTSTAMP;TZID=Europe/Rome:20250905T105011
DTSTART;TZID=Europe/Rome:20260713T090000
DTEND;TZID=Europe/Rome:20260802T150000
CATEGORIES:Azione Cattolica Diocesana
LOCATION:
DESCRIPTION:AC: Campi diocesani ACR e Giovani (13/07-02/08)
END:VEVENT
BEGIN:VEVENT
SUMMARY:Campi orientamento e biblico (3-9)
UID:https://diocesi.concordia-pordenone.it/?post_type=wd-appuntamenti&p=14208
DTSTAMP;TZID=Europe/Rome:20250905T105151
DTSTART;TZID=Europe/Rome:20260803T090000
DTEND;TZID=Europe/Rome:20260809T150000
CATEGORIES:Azione Cattolica Diocesana
LOCATION:
DESCRIPTION:AC: Campi orientamento e biblico (3-9)
END:VEVENT
BEGIN:VEVENT
SUMMARY:Campi Base per educatori (10-16)
UID:https://diocesi.concordia-pordenone.it/?post_type=wd-appuntamenti&p=14209
DTSTAMP;TZID=Europe/Rome:20250905T105229
DTSTART;TZID=Europe/Rome:20260810T090000
DTEND;TZID=Europe/Rome:20260816T150000
CATEGORIES:Azione Cattolica Diocesana
LOCATION:
DESCRIPTION:AC: Campi Base per educatori (10-16)
END:VEVENT
END:VCALENDAR
