BEGIN:VCALENDAR
VERSION:2.0
PRODID:-//Diocesi di Concordia-Pordenone//NOAH Events //EN
METHOD:PUBLISH
CALSCALE:GREGORIAN
X-WR-CALNAME:Centro Pastorale Adolescenti e Giovani - Diocesi di Concordia-Pordenone
BEGIN:VEVENT
SUMMARY:Nello Scrigno della Vita in Seminario
UID:https://diocesi.concordia-pordenone.it/?post_type=wd-appuntamenti&p=14180
DTSTAMP;TZID=Europe/Rome:20250905T094752
DTSTART;TZID=Europe/Rome:20260508T204500
DTEND;TZID=Europe/Rome:20260508T211500
CATEGORIES:Centro Pastorale Adolescenti e Giovani
LOCATION:
DESCRIPTION:CPAG+SEM: Nello Scrigno della Vita in Seminario ore 20.45-22.15
END:VEVENT
BEGIN:VEVENT
SUMMARY:Consulta di Pastorale Giovanile
UID:https://diocesi.concordia-pordenone.it/?post_type=wd-appuntamenti&p=14174
DTSTAMP;TZID=Europe/Rome:20260413T115304
DTSTART;TZID=Europe/Rome:20260519T203000
DTEND;TZID=Europe/Rome:20260519T220000
CATEGORIES:Centro Pastorale Adolescenti e Giovani
LOCATION:
DESCRIPTION:CPAG: Consulta di Pastorale Giovanile
END:VEVENT
BEGIN:VEVENT
SUMMARY:Veglia di Pentecoste per Adolescenti
UID:https://diocesi.concordia-pordenone.it/?post_type=wd-appuntamenti&p=14196
DTSTAMP;TZID=Europe/Rome:20250905T101909
DTSTART;TZID=Europe/Rome:20260523T203000
DTEND;TZID=Europe/Rome:20260523T220000
CATEGORIES:Centro Pastorale Adolescenti e Giovani
LOCATION:
DESCRIPTION:CPAG: Veglia di Pentecoste per Adolescenti
END:VEVENT
BEGIN:VEVENT
SUMMARY:Festa Diocesana Adolescenti e Giovani – GRESTA 2026
UID:https://diocesi.concordia-pordenone.it/?post_type=wd-appuntamenti&p=14210
DTSTAMP;TZID=Europe/Rome:20260127T100518
DTSTART;TZID=Europe/Rome:20260926T150000
DTEND;TZID=Europe/Rome:20260926T210000
CATEGORIES:Centro Pastorale Adolescenti e Giovani
LOCATION:
DESCRIPTION:CPAG: Festa Diocesana Adolescenti e Giovani – GRESTA 2026
END:VEVENT
END:VCALENDAR
