BEGIN:VCALENDAR
VERSION:2.0
PRODID:-//Diocesi di Concordia-Pordenone//NOAH Events //EN
METHOD:PUBLISH
CALSCALE:GREGORIAN
X-WR-CALNAME:Consiglio Pastorale Diocesano - Diocesi di Concordia-Pordenone
BEGIN:VEVENT
SUMMARY:Consiglio Pastorale Diocesano
UID:https://diocesi.concordia-pordenone.it/?post_type=wd-appuntamenti&p=13905
DTSTAMP;TZID=Europe/Rome:20250729T095314
DTSTART;TZID=Europe/Rome:20260526T190000
DTEND;TZID=Europe/Rome:20260526T220000
CATEGORIES:Consiglio Pastorale Diocesano
LOCATION:
DESCRIPTION:Consiglio Pastorale Diocesano al CPS Pordenone ore 19.00-22.00
END:VEVENT
END:VCALENDAR
