BEGIN:VCALENDAR
VERSION:2.0
PRODID:-//Diocesi di Concordia-Pordenone//NOAH Events //EN
METHOD:PUBLISH
CALSCALE:GREGORIAN
X-WR-CALNAME:Consiglio Presbiterale - Diocesi di Concordia-Pordenone
BEGIN:VEVENT
SUMMARY:Consiglio Presbiterale
UID:https://diocesi.concordia-pordenone.it/?post_type=wd-appuntamenti&p=13901
DTSTAMP;TZID=Europe/Rome:20250729T094837
DTSTART;TZID=Europe/Rome:20260514T093000
DTEND;TZID=Europe/Rome:20260514T113000
CATEGORIES:Consiglio Presbiterale
LOCATION:
DESCRIPTION:Consiglio Presbiterale al CPS Pordenone ore 9.30
END:VEVENT
END:VCALENDAR
