BEGIN:VCALENDAR
VERSION:2.0
PRODID:-//Diocesi di Concordia-Pordenone//NOAH Events //EN
METHOD:PUBLISH
CALSCALE:GREGORIAN
X-WR-CALNAME:Diaconi Permanenti - Diocesi di Concordia-Pordenone
BEGIN:VEVENT
SUMMARY:Incontro Diaconi Permanenti e Mogli
UID:https://diocesi.concordia-pordenone.it/?post_type=wd-appuntamenti&p=13989
DTSTAMP;TZID=Europe/Rome:20250828T080205
DTSTART;TZID=Europe/Rome:20260424T180000
DTEND;TZID=Europe/Rome:20260424T210000
CATEGORIES:Diaconi Permanenti
LOCATION:
DESCRIPTION:Incontro Diaconi Permanenti e Mogli dalle ore 18.00
END:VEVENT
BEGIN:VEVENT
SUMMARY:Incontro Diaconi Permanenti e Mogli
UID:https://diocesi.concordia-pordenone.it/?post_type=wd-appuntamenti&p=13991
DTSTAMP;TZID=Europe/Rome:20250828T103721
DTSTART;TZID=Europe/Rome:20260515T180000
DTEND;TZID=Europe/Rome:20260515T210000
CATEGORIES:Diaconi Permanenti
LOCATION:
DESCRIPTION:Incontro Diaconi Permanenti e Mogli dalle ore 18.00
END:VEVENT
END:VCALENDAR
