BEGIN:VCALENDAR
VERSION:2.0
PRODID:-//Diocesi di Concordia-Pordenone//NOAH Events //EN
METHOD:PUBLISH
CALSCALE:GREGORIAN
X-WR-CALNAME:Formazione e appuntamenti Clero - Diocesi di Concordia-Pordenone
BEGIN:VEVENT
SUMMARY:Formazione clero primi 5 anni in Seminario
UID:https://diocesi.concordia-pordenone.it/?post_type=wd-appuntamenti&p=14060
DTSTAMP;TZID=Europe/Rome:20250902T121817
DTSTART;TZID=Europe/Rome:20260429T090000
DTEND;TZID=Europe/Rome:20260429T133000
CATEGORIES:Formazione e appuntamenti Clero
LOCATION:
DESCRIPTION:FC: Formazione clero primi 5 anni in Seminario ore 9.00-13.30
END:VEVENT
BEGIN:VEVENT
SUMMARY:Ritiro del clero a Marsure-Santuario Madonna del Monte
UID:https://diocesi.concordia-pordenone.it/?post_type=wd-appuntamenti&p=13885
DTSTAMP;TZID=Europe/Rome:20250725T095800
DTSTART;TZID=Europe/Rome:20260507T093000
DTEND;TZID=Europe/Rome:20260507T130000
CATEGORIES:Formazione e appuntamenti Clero
LOCATION:
DESCRIPTION:Ritiro del clero a Marsure-Santuario Madonna del Monte ore 9.30
END:VEVENT
BEGIN:VEVENT
SUMMARY:Uscita Formazione clero primi 5 anni in Seminario
UID:https://diocesi.concordia-pordenone.it/?post_type=wd-appuntamenti&p=14061
DTSTAMP;TZID=Europe/Rome:20250902T121931
DTSTART;VALUE=DATE:20260513
DTEND;VALUE=DATE:20260513
CATEGORIES:Formazione e appuntamenti Clero
LOCATION:
DESCRIPTION:FC: Uscita Formazione clero primi 5 anni
END:VEVENT
BEGIN:VEVENT
SUMMARY:Congrega foraneale
UID:https://diocesi.concordia-pordenone.it/?post_type=wd-appuntamenti&p=13887
DTSTAMP;TZID=Europe/Rome:20250725T100005
DTSTART;TZID=Europe/Rome:20260521T093000
DTEND;TZID=Europe/Rome:20260521T130000
CATEGORIES:Formazione e appuntamenti Clero
LOCATION:
DESCRIPTION:Congrega foraneale
END:VEVENT
BEGIN:VEVENT
SUMMARY:Formazione fascia di età 6-15
UID:https://diocesi.concordia-pordenone.it/?post_type=wd-appuntamenti&p=13888
DTSTAMP;TZID=Europe/Rome:20250725T100052
DTSTART;TZID=Europe/Rome:20260528T093000
DTEND;TZID=Europe/Rome:20260528T130000
CATEGORIES:Formazione e appuntamenti Clero
LOCATION:
DESCRIPTION:Formazione fascia di età 6-15
END:VEVENT
BEGIN:VEVENT
SUMMARY:Giornata sacerdotale al CPS Pordenone
UID:https://diocesi.concordia-pordenone.it/?post_type=wd-appuntamenti&p=13889
DTSTAMP;TZID=Europe/Rome:20250905T104500
DTSTART;TZID=Europe/Rome:20260604T093000
DTEND;TZID=Europe/Rome:20260604T130000
CATEGORIES:Formazione e appuntamenti Clero
LOCATION:
DESCRIPTION:FC: Giornata sacerdotale al CPS Pordenone ore 9.30+pranzo
END:VEVENT
END:VCALENDAR
