BEGIN:VCALENDAR
VERSION:2.0
PRODID:-//Diocesi di Concordia-Pordenone//NOAH Events //EN
METHOD:PUBLISH
CALSCALE:GREGORIAN
X-WR-CALNAME:Servizio Diocesano di Pastorale Familiare - Diocesi di Concordia-Pordenone
BEGIN:VEVENT
SUMMARY:Gruppo Fedeltà a Frattina
UID:https://diocesi.concordia-pordenone.it/?post_type=wd-appuntamenti&p=14179
DTSTAMP;TZID=Europe/Rome:20250905T094653
DTSTART;TZID=Europe/Rome:20260502T150000
DTEND;TZID=Europe/Rome:20260502T170000
CATEGORIES:Servizio Diocesano di Pastorale Familiare
LOCATION:
DESCRIPTION:SDFV: Gruppo Fedeltà a Frattina ore 15.00-17.00
END:VEVENT
BEGIN:VEVENT
SUMMARY:Il Vescovo incontra i fidanzati ad Azzano Decimo
UID:https://diocesi.concordia-pordenone.it/?post_type=wd-appuntamenti&p=14186
DTSTAMP;TZID=Europe/Rome:20250909T085533
DTSTART;TZID=Europe/Rome:20260515T203000
DTEND;TZID=Europe/Rome:20260515T220000
CATEGORIES:Servizio Diocesano di Pastorale Familiare
LOCATION:
DESCRIPTION:SDFV: Il Vescovo incontra i fidanzati ad Azzano Decimo ore 20.30
END:VEVENT
BEGIN:VEVENT
SUMMARY:Commissione famiglia al CPS Pordenone
UID:https://diocesi.concordia-pordenone.it/?post_type=wd-appuntamenti&p=14190
DTSTAMP;TZID=Europe/Rome:20250905T101144
DTSTART;TZID=Europe/Rome:20260516T173000
DTEND;TZID=Europe/Rome:20260516T203000
CATEGORIES:Servizio Diocesano di Pastorale Familiare
LOCATION:
DESCRIPTION:SDFV: Commissione famiglia al CPS Pordenone ore 17.30-20.30
END:VEVENT
BEGIN:VEVENT
SUMMARY:Gruppo Fedeltà a Frattina
UID:https://diocesi.concordia-pordenone.it/?post_type=wd-appuntamenti&p=14193
DTSTAMP;TZID=Europe/Rome:20250905T101643
DTSTART;TZID=Europe/Rome:20260517T103000
DTEND;TZID=Europe/Rome:20260517T143000
CATEGORIES:Servizio Diocesano di Pastorale Familiare
LOCATION:
DESCRIPTION:SDFV: Gruppo Fedeltà a Frattina ore 10.30-14.30
END:VEVENT
BEGIN:VEVENT
SUMMARY:Gruppo Nuova Fedeltà al CPS Pordenone
UID:https://diocesi.concordia-pordenone.it/?post_type=wd-appuntamenti&p=14188
DTSTAMP;TZID=Europe/Rome:20250905T101000
DTSTART;TZID=Europe/Rome:20260517T150000
DTEND;TZID=Europe/Rome:20260517T170000
CATEGORIES:Servizio Diocesano di Pastorale Familiare
LOCATION:
DESCRIPTION:SDFV: Gruppo Nuova Fedeltà al CPS Pordenone ore 15.00-17.00
END:VEVENT
BEGIN:VEVENT
SUMMARY:Artigiani dell’Amore a Bibione (30/05-01/06)
UID:https://diocesi.concordia-pordenone.it/?post_type=wd-appuntamenti&p=14197
DTSTAMP;TZID=Europe/Rome:20250905T104138
DTSTART;TZID=Europe/Rome:20260530T150000
DTEND;TZID=Europe/Rome:20260601T150000
CATEGORIES:Servizio Diocesano di Pastorale Familiare
LOCATION:
DESCRIPTION:SDFV: Artigiani dell’Amore a Bibione (30/05-01/06)
END:VEVENT
BEGIN:VEVENT
SUMMARY:Gruppo Fedeltà a Frattina
UID:https://diocesi.concordia-pordenone.it/?post_type=wd-appuntamenti&p=14199
DTSTAMP;TZID=Europe/Rome:20250905T104539
DTSTART;TZID=Europe/Rome:20260606T150000
DTEND;TZID=Europe/Rome:20260606T170000
CATEGORIES:Servizio Diocesano di Pastorale Familiare
LOCATION:
DESCRIPTION:SDFV: Gruppo Fedeltà a Frattina ore 15.00-17.00
END:VEVENT
BEGIN:VEVENT
SUMMARY:Gruppo Fedeltà a Frattina
UID:https://diocesi.concordia-pordenone.it/?post_type=wd-appuntamenti&p=14203
DTSTAMP;TZID=Europe/Rome:20250905T104810
DTSTART;TZID=Europe/Rome:20260621T103000
DTEND;TZID=Europe/Rome:20260621T143000
CATEGORIES:Servizio Diocesano di Pastorale Familiare
LOCATION:
DESCRIPTION:SDFV: Gruppo Fedeltà a Frattina ore 10.30-14.30
END:VEVENT
BEGIN:VEVENT
SUMMARY:Gruppo Fedeltà a Frattina
UID:https://diocesi.concordia-pordenone.it/?post_type=wd-appuntamenti&p=14205
DTSTAMP;TZID=Europe/Rome:20250905T104931
DTSTART;TZID=Europe/Rome:20260704T150000
DTEND;TZID=Europe/Rome:20260704T170000
CATEGORIES:Servizio Diocesano di Pastorale Familiare
LOCATION:
DESCRIPTION:SDFV: Gruppo Fedeltà a Frattina ore 15.00-17.00
END:VEVENT
BEGIN:VEVENT
SUMMARY:Gruppo Fedeltà a Frattina
UID:https://diocesi.concordia-pordenone.it/?post_type=wd-appuntamenti&p=14207
DTSTAMP;TZID=Europe/Rome:20250905T105059
DTSTART;TZID=Europe/Rome:20260801T150000
DTEND;TZID=Europe/Rome:20260801T170000
CATEGORIES:Servizio Diocesano di Pastorale Familiare
LOCATION:
DESCRIPTION:SDFV: Gruppo Fedeltà a Frattina ore 15.00-17.00
END:VEVENT
BEGIN:VEVENT
SUMMARY:SDPF: CAMPO FAMIGLIE a FUSINE
UID:https://diocesi.concordia-pordenone.it/?post_type=wd-appuntamenti&p=14920
DTSTAMP;TZID=Europe/Rome:20260202T124322
DTSTART;TZID=Europe/Rome:20260802T090000
DTEND;TZID=Europe/Rome:20260809T130000
CATEGORIES:Servizio Diocesano di Pastorale Familiare
LOCATION:
DESCRIPTION:– CAMPO FAMIGLIE a FUSINE dal 2 al 9 agosto 2026
END:VEVENT
BEGIN:VEVENT
SUMMARY:Festa delle Famiglie
UID:https://diocesi.concordia-pordenone.it/?post_type=wd-appuntamenti&p=14219
DTSTAMP;TZID=Europe/Rome:20250909T084827
DTSTART;VALUE=DATE:20260920
DTEND;VALUE=DATE:20260920
CATEGORIES:Servizio Diocesano di Pastorale Familiare
LOCATION:
DESCRIPTION:SDFV: Festa delle Famiglie
END:VEVENT
END:VCALENDAR
