BEGIN:VCALENDAR
VERSION:2.0
PRODID:-//Diocesi di Concordia-Pordenone//NOAH Events //EN
METHOD:PUBLISH
CALSCALE:GREGORIAN
X-WR-CALNAME:Servizio Diocesano per le Vocazioni - Diocesi di Concordia-Pordenone
BEGIN:VEVENT
SUMMARY:Weekend Vocazionale in Seminario
UID:https://diocesi.concordia-pordenone.it/?post_type=wd-appuntamenti&p=14191
DTSTAMP;TZID=Europe/Rome:20251015T125053
DTSTART;TZID=Europe/Rome:20260516T153000
DTEND;TZID=Europe/Rome:20260516T220000
CATEGORIES:Servizio Diocesano per le Vocazioni
LOCATION:
DESCRIPTION:SDV: Weekend Vocazionale in Seminario ore 15.30-22.00
END:VEVENT
BEGIN:VEVENT
SUMMARY:Weekend Vocazionale in Seminario
UID:https://diocesi.concordia-pordenone.it/?post_type=wd-appuntamenti&p=14194
DTSTAMP;TZID=Europe/Rome:20251015T125125
DTSTART;TZID=Europe/Rome:20260517T080000
DTEND;TZID=Europe/Rome:20260517T143000
CATEGORIES:Servizio Diocesano per le Vocazioni
LOCATION:
DESCRIPTION:SDV: Weekend Vocazionale in Seminario ore 8.00-14.30
END:VEVENT
END:VCALENDAR
