BEGIN:VCALENDAR
VERSION:2.0
PRODID:-//Servizio per la catechesi//NOAH Events //EN
METHOD:PUBLISH
CALSCALE:GREGORIAN
X-WR-CALNAME:Servizio per la catechesi
BEGIN:VEVENT
SUMMARY:Chiusura Anno catechistico
UID:https://diocesi.concordia-pordenone.it/catechistico/?post_type=wd-appuntamenti&p=1954
DTSTAMP;TZID=Europe/Rome:20250829T111729
DTSTART;TZID=Europe/Rome:20260427T200000
DTEND;TZID=Europe/Rome:20260427T220000
CATEGORIES:Convegno
LOCATION:
DESCRIPTION:Chiusura Anno catechistico
END:VEVENT
BEGIN:VEVENT
SUMMARY:Ritiro Cresimandi al CPS Pordenone
UID:https://diocesi.concordia-pordenone.it/catechistico/?post_type=wd-appuntamenti&p=1944
DTSTAMP;TZID=Europe/Rome:20250801T092856
DTSTART;TZID=Europe/Rome:20260510T150000
DTEND;TZID=Europe/Rome:20260510T170000
CATEGORIES:Ritiro
LOCATION:
DESCRIPTION:Ritiro Cresimandi al CPS Pordenone ore 15.00
END:VEVENT
BEGIN:VEVENT
SUMMARY:Concordia Sagittaria: Cresima adulti
UID:https://diocesi.concordia-pordenone.it/catechistico/?post_type=wd-appuntamenti&p=2015
DTSTAMP;TZID=Europe/Rome:20260130T133005
DTSTART;TZID=Europe/Rome:20260524T183000
DTEND;TZID=Europe/Rome:20260524T193000
CATEGORIES:Servizio Diocesano per la Catechesi
LOCATION:
DESCRIPTION:Cresima adulti a Concordia Sagittaria ore 18.30
END:VEVENT
END:VCALENDAR
