BEGIN:VCALENDAR
VERSION:2.0
PRODID:-//Servizio Diocesano Liturgico//NOAH Events //EN
METHOD:PUBLISH
CALSCALE:GREGORIAN
X-WR-CALNAME:Servizio Diocesano Liturgico
BEGIN:VEVENT
SUMMARY:Convegno annuale Min. Str. della Comunione
UID:https://diocesi.concordia-pordenone.it/liturgico/?post_type=wd-appuntamenti&p=263
DTSTAMP;TZID=Europe/Rome:20250905T094551
DTSTART;TZID=Europe/Rome:20260530T150000
DTEND;TZID=Europe/Rome:20260530T170000
CATEGORIES:Ministri Straordinari della Comunione
LOCATION:
DESCRIPTION:SDL: Convegno annuale Min. Str. della Comunione ore 15.00-17.00
END:VEVENT
END:VCALENDAR
