BEGIN:VCALENDAR
VERSION:2.0
PRODID:-//Centro Diocesano Missionario//NOAH Events //EN
METHOD:PUBLISH
CALSCALE:GREGORIAN
X-WR-CALNAME:Centro Diocesano Missionario
BEGIN:VEVENT
SUMMARY:PEM (Preparazione Esperienza Missionaria)
UID:https://diocesi.concordia-pordenone.it/missionario/?post_type=wd-appuntamenti&p=1633
DTSTAMP;TZID=Europe/Rome:20250728T110013
DTSTART;TZID=Europe/Rome:20260516T150000
DTEND;TZID=Europe/Rome:20260516T193000
CATEGORIES:Preparazione Esperienze Missionarie - PEM
LOCATION:
DESCRIPTION:Missio Giovani propone il PEM (Preparazione Esperienza Missionaria) per tutti i giovani dai 18 anni che hanno desiderio di vivere un’esperienza di visita presso alcuni Paesi del mondo dove operano dei nostri amici missionari e missionarie. Il percorso formativo ha come scopo essenziale quello di far cogliere la bellezza che c’è nell’incontro tra popoli con culture diverse e desidera trasmettere ai giovani lo stile con cui intraprendere il proprio viaggio di vita attraverso l’ascolto, la condivisione, l’incontro e il rispetto per ogni creatura. Gli incontri si terranno presso l’oratorio di Villa d’Arco di Cordenons (PN) in via Pordenone, 2 dalle ore 15 alle ore 19:30. Per rendere possibile l’esperienza di visita presso una delle missioni indicate sarà necessario partecipare a tutti gli incontri in programma con la possibilità di una sola assenza. Le destinazioni verranno comunicate durante il percorso, le partenze avverranno nel mese di luglio o agosto per un periodo di tre settimane. Il contributo di partecipazione per tutto il corso è di 40€ a persona. Contatti: Centro Missionario Diocesano Via Revedole, 1 – Pordenone Referente: Alex Zappalà email: alexzappala@diocesiconcordiapordenone.it cell: 392 692 6873
END:VEVENT
BEGIN:VEVENT
SUMMARY:Incontro Missio Giovani
UID:https://diocesi.concordia-pordenone.it/missionario/?post_type=wd-appuntamenti&p=1644
DTSTAMP;TZID=Europe/Rome:20250728T113310
DTSTART;TZID=Europe/Rome:20260517T160000
DTEND;TZID=Europe/Rome:20260517T190000
CATEGORIES:Missio Giovani
LOCATION:
DESCRIPTION:Incontro Missio Giovani all’Oratorio Villa D’Arco ore 16.00
END:VEVENT
BEGIN:VEVENT
SUMMARY:Festa Missio Giovani e PEM
UID:https://diocesi.concordia-pordenone.it/missionario/?post_type=wd-appuntamenti&p=1634
DTSTAMP;TZID=Europe/Rome:20250728T110128
DTSTART;TZID=Europe/Rome:20260614T180000
DTEND;TZID=Europe/Rome:20260614T220000
CATEGORIES:Missio Giovani, Preparazione Esperienze Missionarie - PEM
LOCATION:
DESCRIPTION:Festa Missio Giovani e PEM a Pordenone ore 18.00
END:VEVENT
END:VCALENDAR
