BEGIN:VCALENDAR
VERSION:2.0
PRODID:-//Ufficio Scuola//NOAH Events //EN
METHOD:PUBLISH
CALSCALE:GREGORIAN
X-WR-CALNAME:Ufficio Scuola
BEGIN:VEVENT
SUMMARY:Chiusura Anno Scolastico
UID:https://diocesi.concordia-pordenone.it/scuola/?post_type=wd-appuntamenti&p=722
DTSTAMP;TZID=Europe/Rome:20250905T094438
DTSTART;TZID=Europe/Rome:20260515T180000
DTEND;TZID=Europe/Rome:20260515T190000
CATEGORIES:Formazione Insegnanti
LOCATION:
DESCRIPTION:USD: Chiusura Anno Scolastico ore 18.00
END:VEVENT
END:VCALENDAR
