BEGIN:VCALENDAR
VERSION:2.0
PRODID:-//Seminario Diocesano//NOAH Events //EN
METHOD:PUBLISH
CALSCALE:GREGORIAN
X-WR-CALNAME:Seminario Diocesano
BEGIN:VEVENT
SUMMARY:Festa diocesana chierichetti in Seminario
UID:https://diocesi.concordia-pordenone.it/seminario/?post_type=wd-appuntamenti&p=1501
DTSTAMP;TZID=Europe/Rome:20250905T094041
DTSTART;TZID=Europe/Rome:20260501T083000
DTEND;TZID=Europe/Rome:20260501T130000
CATEGORIES:Chierichetti, Seminario
LOCATION:
DESCRIPTION:SEM+SDV: Festa diocesana chierichetti in Seminario ore 8.30
END:VEVENT
BEGIN:VEVENT
SUMMARY:Santa Messa per la dedicazione della chiesa del Seminario
UID:https://diocesi.concordia-pordenone.it/seminario/?post_type=wd-appuntamenti&p=1506
DTSTAMP;TZID=Europe/Rome:20250910T093618
DTSTART;TZID=Europe/Rome:20260518T190000
DTEND;TZID=Europe/Rome:20260518T200000
CATEGORIES:Sante Messe-Incontri di preghiera, Seminario
LOCATION:
DESCRIPTION:SEM: Santa Messa per la dedicazione della chiesa del Seminario ore 19.00
END:VEVENT
BEGIN:VEVENT
SUMMARY:Santa Messa conclusiva mese mariano in Seminario
UID:https://diocesi.concordia-pordenone.it/seminario/?post_type=wd-appuntamenti&p=1507
DTSTAMP;TZID=Europe/Rome:20250910T093722
DTSTART;TZID=Europe/Rome:20260529T204500
DTEND;TZID=Europe/Rome:20260529T214500
CATEGORIES:Sante Messe-Incontri di preghiera, Seminario
LOCATION:
DESCRIPTION:SEM: Santa Messa conclusiva mese mariano in Seminario ore 20.45
END:VEVENT
BEGIN:VEVENT
SUMMARY:Ordinazioni Presbiterali in Cattedrale a Concordia
UID:https://diocesi.concordia-pordenone.it/seminario/?post_type=wd-appuntamenti&p=1504
DTSTAMP;TZID=Europe/Rome:20250909T121436
DTSTART;TZID=Europe/Rome:20260606T093000
DTEND;TZID=Europe/Rome:20260606T113000
CATEGORIES:Ministeri e ordinazioni, Seminario
LOCATION:
DESCRIPTION:SEM: Ordinazioni Presbiterali in Cattedrale a Concordia ore 9.30
END:VEVENT
END:VCALENDAR
