BEGIN:VCALENDAR
VERSION:2.0
PRODID:-//Pastorale Sociale e del Lavoro, Giustizia e Pace, Custodia del Creato//NOAH Events //EN
METHOD:PUBLISH
CALSCALE:GREGORIAN
X-WR-CALNAME:Pastorale Sociale e del Lavoro, Giustizia e Pace, Custodia del Creato
BEGIN:VEVENT
SUMMARY:Celebrazione XXI Giornata per la Custodia del Creato a Torrate
UID:https://diocesi.concordia-pordenone.it/sociale/?post_type=wd-appuntamenti&p=1095
DTSTAMP;TZID=Europe/Rome:20250905T105430
DTSTART;TZID=Europe/Rome:20260906T060000
DTEND;TZID=Europe/Rome:20260906T150000
CATEGORIES:Incontri pubblici, Pastorale Sociale
LOCATION:
DESCRIPTION:Celebrazione XXI Giornata per la Custodia del Creato a Torrate ore 6.00-15.00
END:VEVENT
END:VCALENDAR
